BEGIN:VCALENDAR
VERSION:2.0
PRODID:icalendar-ruby
CALSCALE:GREGORIAN
BEGIN:VEVENT
DTSTAMP:20260420T141021Z
UID:86d60861-c671-42c7-822d-c9b8db851d0f
DTSTART:20260424T173000
DTEND:20260424T193000
LOCATION:Location siehe Beschreibung
SUMMARY:Von Cornern\, Camps und Clubs: Linke Freiräume verteidigen!
URL;VALUE=URI:https://www.rauze.de/2026-4
END:VEVENT
END:VCALENDAR
