BEGIN:VCALENDAR
VERSION:2.0
PRODID:icalendar-ruby
CALSCALE:GREGORIAN
BEGIN:VEVENT
DTSTAMP:20260423T074646Z
UID:9f151279-daac-4e25-9d5c-8776bc4c9638
DTSTART:20260423T190000
DTEND:20260423T210000
LOCATION:Plan B
SUMMARY:Basskuscheln
URL;VALUE=URI:https://www.rauze.de/basskuscheln-2026-4-23
END:VEVENT
END:VCALENDAR
