BEGIN:VCALENDAR
VERSION:2.0
PRODID:icalendar-ruby
CALSCALE:GREGORIAN
BEGIN:VEVENT
DTSTAMP:20260421T062908Z
UID:7ffc405d-15b2-4621-9b6c-2a0dbb65f463
DTSTART:20260421T190000
DTEND:20260421T210000
LOCATION:Schauburg
SUMMARY:Betreutes Singen
URL;VALUE=URI:https://www.rauze.de/betreutes-singen-2026-4
END:VEVENT
END:VCALENDAR
