BEGIN:VCALENDAR
VERSION:2.0
PRODID:icalendar-ruby
CALSCALE:GREGORIAN
BEGIN:VEVENT
DTSTAMP:20260423T074646Z
UID:bf1e9be6-c773-4d24-8550-a60456c695a9
DTSTART:20260423T220000
DTEND:20260424T000000
LOCATION:objekt klein a
SUMMARY:Boarding: Cequences
URL;VALUE=URI:https://www.rauze.de/boarding-cequences
END:VEVENT
END:VCALENDAR
