BEGIN:VCALENDAR
VERSION:2.0
PRODID:icalendar-ruby
CALSCALE:GREGORIAN
BEGIN:VEVENT
DTSTAMP:20260424T045948Z
UID:955d5466-9cf8-4812-9177-acd1cb5286fe
DTSTART:20260424T200000
DTEND:20260424T220000
LOCATION:Circie
SUMMARY:Contect Hi
URL;VALUE=URI:https://www.rauze.de/contect-hi-2026
END:VEVENT
END:VCALENDAR
