BEGIN:VCALENDAR
VERSION:2.0
PRODID:icalendar-ruby
CALSCALE:GREGORIAN
BEGIN:VEVENT
DTSTAMP:20260422T034525Z
UID:0a659424-8fa4-4708-93d6-a4fb46f25aab
DTSTART:20260422T180000
DTEND:20260422T200000
LOCATION:Location siehe Beschreibung
SUMMARY:Dresden\, deine Clubs?
URL;VALUE=URI:https://www.rauze.de/dresden-deine-clubs
END:VEVENT
END:VCALENDAR
