BEGIN:VCALENDAR
VERSION:2.0
PRODID:icalendar-ruby
CALSCALE:GREGORIAN
BEGIN:VEVENT
DTSTAMP:20260424T212047Z
UID:2f1a4390-a3b8-4817-bc9f-72156744f119
DTSTART:20260424T190000
DTEND:20260424T210000
LOCATION:Beatpol
SUMMARY:Elvana Elvis Fronted Nirvana
URL;VALUE=URI:https://www.rauze.de/elvana-elvis-fronted-nirvana
END:VEVENT
END:VCALENDAR
