BEGIN:VCALENDAR
VERSION:2.0
PRODID:icalendar-ruby
CALSCALE:GREGORIAN
BEGIN:VEVENT
DTSTAMP:20260423T074548Z
UID:b2c0e7cf-0438-49fa-a85a-4fd725883b97
DTSTART:20260423T190000
DTEND:20260423T210000
LOCATION:Parkhotel Dresden
SUMMARY:Fabian Köster
URL;VALUE=URI:https://www.rauze.de/fabian-koester
END:VEVENT
END:VCALENDAR
