BEGIN:VCALENDAR
VERSION:2.0
PRODID:icalendar-ruby
CALSCALE:GREGORIAN
BEGIN:VEVENT
DTSTAMP:20260419T130736Z
UID:f64258ae-7ca6-4630-912d-8226dd7101df
DTSTART:20260419T200000
DTEND:20260419T220000
LOCATION:Ostpol
SUMMARY:Habak
URL;VALUE=URI:https://www.rauze.de/habak
END:VEVENT
END:VCALENDAR
