BEGIN:VCALENDAR
VERSION:2.0
PRODID:icalendar-ruby
CALSCALE:GREGORIAN
BEGIN:VEVENT
DTSTAMP:20260422T034243Z
UID:eef0fad1-7d21-428f-a103-02aa420bf722
DTSTART:20260422T190000
DTEND:20260422T210000
LOCATION:Schauburg
SUMMARY:Julius Fischer
URL;VALUE=URI:https://www.rauze.de/julius-fischer-2026
END:VEVENT
END:VCALENDAR
