BEGIN:VCALENDAR
VERSION:2.0
PRODID:icalendar-ruby
CALSCALE:GREGORIAN
BEGIN:VEVENT
DTSTAMP:20260422T033656Z
UID:a1358a46-03ea-4e15-b768-c8e246317681
DTSTART:20260422T190000
DTEND:20260422T210000
LOCATION:Hole of Fame
SUMMARY:Kein Land für Niemand - Abschottung eines Einwanderungslandes
URL;VALUE=URI:https://www.rauze.de/kein-land-fuer-niemand-abschottung-eines
 -einwanderungslandes
END:VEVENT
END:VCALENDAR
