BEGIN:VCALENDAR
VERSION:2.0
PRODID:icalendar-ruby
CALSCALE:GREGORIAN
BEGIN:VEVENT
DTSTAMP:20260423T074228Z
UID:af441dbf-4e4f-4875-a326-bc2dbe7d86f7
DTSTART:20260423T190000
DTEND:20260423T210000
LOCATION:Blauer Salon
SUMMARY:Lonely Spring
URL;VALUE=URI:https://www.rauze.de/lonely-spring-2026
END:VEVENT
END:VCALENDAR
