BEGIN:VCALENDAR
VERSION:2.0
PRODID:icalendar-ruby
CALSCALE:GREGORIAN
BEGIN:VEVENT
DTSTAMP:20260424T044858Z
UID:50d9cf1b-1206-41de-888b-8dfcf9ef521f
DTSTART:20260424T180000
DTEND:20260424T200000
LOCATION:Stephanie Kelly
SUMMARY:Match
URL;VALUE=URI:https://www.rauze.de/match
END:VEVENT
END:VCALENDAR
