BEGIN:VCALENDAR
VERSION:2.0
PRODID:icalendar-ruby
CALSCALE:GREGORIAN
BEGIN:VEVENT
DTSTAMP:20260424T044858Z
UID:e63bce36-6bd2-49e4-94cb-b4d7b94f7376
DTSTART:20260424T193000
DTEND:20260424T213000
LOCATION:Hole of Fame
SUMMARY:Mellow Down Easy
URL;VALUE=URI:https://www.rauze.de/mellow-down-easy-tabita-love-the-twains
END:VEVENT
END:VCALENDAR
