BEGIN:VCALENDAR
VERSION:2.0
PRODID:icalendar-ruby
CALSCALE:GREGORIAN
BEGIN:VEVENT
DTSTAMP:20260420T095040Z
UID:86ac75aa-1582-4836-928d-648139ddb23d
DTSTART:20260420T183000
DTEND:20260420T203000
LOCATION:Hole of Fame
SUMMARY:Offenen Plenum
URL;VALUE=URI:https://www.rauze.de/offenen-plenum-2026
END:VEVENT
END:VCALENDAR
