BEGIN:VCALENDAR
VERSION:2.0
PRODID:icalendar-ruby
CALSCALE:GREGORIAN
BEGIN:VEVENT
DTSTAMP:20260419T125929Z
UID:c1bfaa6e-4627-4397-b9d9-a29c188ac33a
DTSTART:20260419T183000
DTEND:20260419T203000
LOCATION:Beatpol
SUMMARY:Polimagie Festival 2026
URL;VALUE=URI:https://www.rauze.de/polimagie-festival-2026-2026-4-19
END:VEVENT
END:VCALENDAR
