BEGIN:VCALENDAR
VERSION:2.0
PRODID:icalendar-ruby
CALSCALE:GREGORIAN
BEGIN:VEVENT
DTSTAMP:20260424T044843Z
UID:96ea137b-cec3-464f-b7f3-587217c7b9e3
DTSTART:20260424T193000
DTEND:20260424T213000
LOCATION:Societaetstheater
SUMMARY:Sally – Mein Leben im Drag
URL;VALUE=URI:https://www.rauze.de/sally-mein-leben-im-drag
END:VEVENT
END:VCALENDAR
