BEGIN:VCALENDAR
VERSION:2.0
PRODID:icalendar-ruby
CALSCALE:GREGORIAN
BEGIN:VEVENT
DTSTAMP:20260424T050114Z
UID:75e12ca6-0bbe-40dd-9efd-2ef8e7d250b2
DTSTART:20260424T200000
DTEND:20260424T220000
LOCATION:Hanse3
SUMMARY:Space in Between
URL;VALUE=URI:https://www.rauze.de/space-in-between
END:VEVENT
END:VCALENDAR
