BEGIN:VCALENDAR
VERSION:2.0
PRODID:icalendar-ruby
CALSCALE:GREGORIAN
BEGIN:VEVENT
DTSTAMP:20260424T050155Z
UID:e4d458b8-3265-418b-a44d-2e018fc30851
DTSTART:20260424T220000
DTEND:20260425T000000
LOCATION:Koralle
SUMMARY:Stroga Club Tour
URL;VALUE=URI:https://www.rauze.de/stroga-club-tour
END:VEVENT
END:VCALENDAR
