BEGIN:VCALENDAR
VERSION:2.0
PRODID:icalendar-ruby
CALSCALE:GREGORIAN
BEGIN:VEVENT
DTSTAMP:20260424T045026Z
UID:d4c7c3cc-e5f6-40e3-9e44-36a081e512da
DTSTART:20260424T190000
DTEND:20260424T210000
LOCATION:Projekttheater
SUMMARY:Wolfsmütter – My Mother Was a Wolf
URL;VALUE=URI:https://www.rauze.de/wolfsmuetter-my-mother-was-a-wolf-2026-4
END:VEVENT
END:VCALENDAR
